BEGIN:VCALENDAR
VERSION:2.0
PRODID:-//jEvents 2.0 for Joomla//EN
CALSCALE:GREGORIAN
METHOD:PUBLISH
BEGIN:VEVENT
UID:62a372c89c6cdbbcd8f223125fbe317e
CATEGORIES:Day Trip
CREATED:20230411T015215
SUMMARY:Beebys Hut
URL;VALUE=URI:https://live.nelsontrampingclub.org.nz/events/1256/beebys-hut?tmpl=componen
 t
DESCRIPTION:<p>Out and back from Korere/Tophouse Rd carpark starting at 600m ASL to the
  hut at 1310m ASL. 15.9km with 1052m of climbing in total. Stiff climb up t
 hrough the beech forest is rewarded with views in all directions once we ar
 e on the 4wd track that skirts Beebys Top to the hut for lunch. Same way ba
 ck but mostly downhill!</p> <a href="https://live.nelsontrampingclub.org.nz
 /events/1256/beebys-hut?tmpl=component">This event was imported from: https
 ://live.nelsontrampingclub.org.nz/events/1256/beebys-hut?tmpl=component</a>DTSTAMP:20260420T160247
DTSTART;VALUE=DATE:20230430
DTEND;VALUE=DATE:20230501
SEQUENCE:0
TRANSP:OPAQUE
END:VEVENT
END:VCALENDAR