BEGIN:VCALENDAR
VERSION:2.0
PRODID:-//jEvents 2.0 for Joomla//EN
CALSCALE:GREGORIAN
METHOD:PUBLISH
BEGIN:VEVENT
UID:835ac835f9144b362563562c99c85d9d
CATEGORIES:Day Trip
CREATED:20230410T231329
SUMMARY:St Arnaud Range - north end
URL;VALUE=URI:https://live.nelsontrampingclub.org.nz/events/1255/st-arnaud-range-north-en
 d?tmpl=component
DESCRIPTION:CHANGED TRIP: WITH THE POSTPONEMENT OF THE PEANTER PEAK WITHOUT THE SNOW, d
 ue to the arrival of the snow, THIS TRIP WILL NOW TAKE PLACE ON SATURDAY 13
  MAY INSTEAD OF THE SCHEDULED 21 MAY. \nFrom 200m east of the Tophouse Road
 /SH63 junction, climb the track to the crest of St Arnaud Range. Walk about
  5km along the range SW to the point where the track from Parachute Rocks i
 ntersects. Descend to Parachute Rocks and continue to Kerr Bay. Either a 2n
 d car or a bicycle will be used to retrieve the vehicle from near Tophouse 
 Junction.\nThe trip leaders will be Chris and Andrea while Debbie will be t
 he trip coordinator.\n This event was imported from: https://live.nelsontra
 mpingclub.org.nz/events/1255/st-arnaud-range-north-end?tmpl=component
X-ALT-DESC;FMTTYPE=text/html:<p><strong>CHANGED TRIP: WITH THE POSTPONEMENT OF THE PEANTER PEAK WITHOUT 
 THE SNOW, due to the arrival of the snow, THIS TRIP WILL NOW TAKE PLACE ON 
 SATURDAY 13 MAY INSTEAD OF THE SCHEDULED 21 MAY.&nbsp;</strong></p><p>From 
 200m east of the Tophouse Road/SH63 junction, climb the track to the crest 
 of St Arnaud Range. Walk about 5km along the range SW to the point where th
 e track from Parachute Rocks intersects. Descend to Parachute Rocks and con
 tinue to Kerr Bay. Either a 2nd car or a bicycle will be used to retrieve t
 he vehicle from near Tophouse Junction.</p><p>The trip leaders will be Chri
 s and Andrea while Debbie will be the trip coordinator.</p> <a href="https:
 //live.nelsontrampingclub.org.nz/events/1255/st-arnaud-range-north-end?tmpl
 =component">This event was imported from: https://live.nelsontrampingclub.o
 rg.nz/events/1255/st-arnaud-range-north-end?tmpl=component</a>DTSTAMP:20260420T155935
DTSTART;VALUE=DATE:20230513
DTEND;VALUE=DATE:20230514
SEQUENCE:0
TRANSP:OPAQUE
END:VEVENT
END:VCALENDAR