BEGIN:VCALENDAR
VERSION:2.0
PRODID:-//jEvents 2.0 for Joomla//EN
CALSCALE:GREGORIAN
METHOD:PUBLISH
BEGIN:VEVENT
UID:29d4b71e69251aa5b254a8ec6bedfdb8
CATEGORIES:Day Trip
CREATED:20230328T233029
SUMMARY:Peanter peak without the snow
URL;VALUE=URI:https://live.nelsontrampingclub.org.nz/events/1251/peanter-peak-without-the
 -snow?tmpl=component
DESCRIPTION:THIS TRIP HAS BEEN POSTPONED BECAUSE THE SNOW ARRIVED. WE WILL TRY AGAIN IN
  SPRING WHEN THE SNOW HAS MELTED.\nLet's walk to Peanter peak before the sn
 ow arrives. \nRainbow ski field, on either Saturday or Sunday, whichever da
 y has the better weather that weekend.\nFrom the car park we will walk up t
 he ski slope, along the ridge to Mt McRae onto Peanter peak. Return via the
  usual snow tramp route. (11km).\nSpecial key access is $115 for the day. N
 ot a ususal tramp. So take advantage and join the crew. \nTHIS WEEKEND TRIP
  (ON SATURDAY) IS NOW BRIAN'S TRIP ST. ARNAUD RANGE - NORTH END WHICH WAS S
 CHEDULED FOR NEXT WEEKEND. \n This event was imported from: https://live.ne
 lsontrampingclub.org.nz/events/1251/peanter-peak-without-the-snow?tmpl=comp
 onent
X-ALT-DESC;FMTTYPE=text/html:<p><strong><em>THIS TRIP HAS BEEN POSTPONED BECAUSE THE SNOW ARRIVED. WE WI
 LL TRY AGAIN IN SPRING WHEN THE SNOW HAS MELTED.</em></strong></p><p>Let's 
 walk to Peanter peak before the snow arrives.&nbsp;</p><p>Rainbow ski field
 , on either Saturday or Sunday, whichever day has the better weather that w
 eekend.</p><p>From the car park we will walk up the ski slope, along the ri
 dge to Mt McRae onto Peanter peak. Return via the usual snow tramp route. (
 11km).</p><p>Special key access is $115 for the day. Not a ususal tramp. So
  take advantage and join the crew.&nbsp;</p><p>THIS WEEKEND TRIP (ON SATURD
 AY) IS NOW BRIAN'S TRIP <em>ST. ARNAUD RANGE - NORTH END</em> WHICH WAS SCH
 EDULED FOR NEXT WEEKEND.&nbsp;</p><h3></h3> <a href="https://live.nelsontra
 mpingclub.org.nz/events/1251/peanter-peak-without-the-snow?tmpl=component">
 This event was imported from: https://live.nelsontrampingclub.org.nz/events
 /1251/peanter-peak-without-the-snow?tmpl=component</a>DTSTAMP:20260420T161911
DTSTART;VALUE=DATE:20230514
DTEND;VALUE=DATE:20230515
SEQUENCE:0
TRANSP:OPAQUE
END:VEVENT
END:VCALENDAR