BEGIN:VCALENDAR
VERSION:2.0
PRODID:-//jEvents 2.0 for Joomla//EN
CALSCALE:GREGORIAN
METHOD:PUBLISH
BEGIN:VEVENT
UID:9412405e151c82592e06f7730ed66fda
CATEGORIES:Extended Trip
CREATED:20230322T084714
SUMMARY:Mt Patriarch
URL;VALUE=URI:https://live.nelsontrampingclub.org.nz/events/1243/mt-patriarch?tmpl=compon
 ent
DESCRIPTION:Saturday\nMeet at 7.30 drive 2 hrs to Rolling Junction, walk to Kiwi Saddle
  Hut, 6 bunks, ca 7 hrs.\nThe first half is along the Wangapeka Track, then
  off a side track along Kiwi Stream through bush to the sheltered little hu
 t. 1 ticket or Hut Pass. A good track the whole way. If we have 2 cars, we'
 ll have a short shuffle of 3km at Rolling Jctn.\nSunday\nSummit Mt Patriarc
 h and along the panorama ridge to John Reid Hut, 6 bunks, 1 ticket or Pass.
  Full day tramp.\nUp from the hut for about 2 1/2 hrs through bush. Drop pa
 cks at the bushline and scramble up Mt Patrirch, then on to John Reid along
  a ridge route. The ridge is stunning on a clear day (that's why I ll only 
 go if the forecast is good for Sunday! I have walked the ridge once in fog,
  without views) with great views of the Mt Owen massif. People could choose
  to skip the summit climb up Patriarch, saves 1 1/2hrs. However, the group 
 plan is to summit. The route is unmarked, but fairly obvious to follow. At 
 the end of the day, drop down 20min to John Reid Hut, in a stunning locatio
 n.\nMonday\nVery steep down Chummies Track through beautiful bush (can be s
 lippery!), cross the Wangapeka river (wet feet!), ca 4hrs, then drive home.
 \nI will only do this if forecast for Sunday looks good, as i have already 
 walked it once in the fog!\n \n This event was imported from: https://live.
 nelsontrampingclub.org.nz/events/1243/mt-patriarch?tmpl=component
X-ALT-DESC;FMTTYPE=text/html:<p>Saturday</p><p>Meet at 7.30 drive 2 hrs to Rolling Junction, walk to Kiw
 i Saddle Hut, 6 bunks, ca 7 hrs.</p><p>The first half is along the Wangapek
 a Track, then off a side track along Kiwi Stream through bush to the shelte
 red little hut. 1 ticket or Hut Pass. A good track the whole way. If we hav
 e 2 cars, we'll have a short shuffle of 3km at Rolling Jctn.</p><p>Sunday</
 p><p>Summit Mt Patriarch and along the panorama ridge to John Reid Hut, 6 b
 unks, 1 ticket or Pass. Full day tramp.</p><p>Up from the hut for about 2 1
 /2 hrs through bush. Drop packs at the bushline and scramble up Mt Patrirch
 , then on to John Reid along a ridge route. The ridge is stunning on a clea
 r day (that's why I ll only go if the forecast is good for Sunday! I have w
 alked the ridge once in fog, without views) with great views of the Mt Owen
  massif. People could choose to skip the summit climb up Patriarch, saves 1
  1/2hrs. However, the group plan is to summit. The route is unmarked, but f
 airly obvious to follow. At the end of the day, drop down 20min to John Rei
 d Hut, in a stunning location.</p><p>Monday</p><p>Very steep down Chummies 
 Track through beautiful bush (can be slippery!), cross the Wangapeka river 
 (wet feet!), ca 4hrs, then drive home.</p><p>I will only do this if forecas
 t for Sunday looks good, as i have already walked it once in the fog!</p><p
 >&nbsp;</p> <a href="https://live.nelsontrampingclub.org.nz/events/1243/mt-
 patriarch?tmpl=component">This event was imported from: https://live.nelson
 trampingclub.org.nz/events/1243/mt-patriarch?tmpl=component</a>DTSTAMP:20260420T155942
DTSTART;VALUE=DATE:20231021
DTEND;VALUE=DATE:20231024
SEQUENCE:0
TRANSP:OPAQUE
END:VEVENT
END:VCALENDAR