BEGIN:VCALENDAR
VERSION:2.0
PRODID:-//jEvents 2.0 for Joomla//EN
CALSCALE:GREGORIAN
METHOD:PUBLISH
BEGIN:VEVENT
UID:cb1545a7d5919512407f66c43454a02c
CATEGORIES:Day Trip
CREATED:20230321T234738
SUMMARY:Cloustons - Horseshoe Basin loop
URL;VALUE=URI:https://live.nelsontrampingclub.org.nz/events/1242/cloustons-horseshoe-basi
 n-loop?tmpl=component
DESCRIPTION:<p>Good old day loop in Mt Arthur area: Cloustons Mine, Gordons Pyramid, Ho
 rseshoe Basin, Mt Arthur Hut loop, 6-7hrs. We could consider adding a side 
 trip to Mt Arthur summit for the faster part of group if there is interest,
  adding ca 1.5 hrs.</p><p>Meet at Cathedral steps 7.00.</p><p>&nbsp;</p><p>
 &nbsp;</p> <a href="https://live.nelsontrampingclub.org.nz/events/1242/clou
 stons-horseshoe-basin-loop?tmpl=component">This event was imported from: ht
 tps://live.nelsontrampingclub.org.nz/events/1242/cloustons-horseshoe-basin-
 loop?tmpl=component</a>DTSTAMP:20260420T160157
DTSTART;VALUE=DATE:20230924
DTEND;VALUE=DATE:20230925
SEQUENCE:0
TRANSP:OPAQUE
END:VEVENT
END:VCALENDAR