BEGIN:VCALENDAR
VERSION:2.0
PRODID:-//jEvents 2.0 for Joomla//EN
CALSCALE:GREGORIAN
METHOD:PUBLISH
BEGIN:VEVENT
UID:b79f5c7a304b93f8272040a9f2885ec8
CATEGORIES:Day Trip
CREATED:20230121T071120
SUMMARY:Beebys Hut
URL;VALUE=URI:https://live.nelsontrampingclub.org.nz/events/1230/beebys-hut?tmpl=componen
 t
DESCRIPTION:An out and back trip to Beebys Hut via Knob (1424m) . About 16 km distance 
 with around 850m climb\nBeeby’s Walking Track (Carpark beside the St Arnaud
  road before Tophouse Road (Elv 600m)\nFrom the car park, the track climbs 
 and sidles the hillside through beech forest, reaching a wide saddle. The t
 rack steepens as it climbs the side of a broad spur, and once on the crest,
  the gradient lessens. The track connects with Beeby’s 4WD road that servic
 es the transmitters at the top of range. It is then an open walk to the 'Kn
 ob' and on to Beeby's Hut (apprx 2 km)  beyond for lunch.\nReturn the same 
 way, or with car shuttle we could do easier return via the 4WD road to Toph
 ouse Road. (decide on the day) \n\n This event was imported from: https://l
 ive.nelsontrampingclub.org.nz/events/1230/beebys-hut?tmpl=component
X-ALT-DESC;FMTTYPE=text/html:<p>An out and back trip to Beebys Hut via Knob (1424m) . About 16 km distan
 ce with around 850m climb</p><p><strong>Beeby’s Walking Track </strong>(Car
 park beside the St Arnaud road before Tophouse Road (Elv 600m)</p><p>From t
 he car park, the track climbs and sidles the hillside through beech forest,
  reaching a wide saddle. The track steepens as it climbs the side of a broa
 d spur, and once on the crest, the gradient lessens. The track connects wit
 h Beeby’s 4WD road that services the transmitters at the top of range. It i
 s then an open walk to the 'Knob' and on to Beeby's Hut (apprx 2 km)&nbsp; 
 beyond for lunch.</p><p>Return the same way, or with car shuttle we could d
 o easier return via the 4WD road to Tophouse Road. (decide on the day)&nbsp
 ;</p><p></p> <a href="https://live.nelsontrampingclub.org.nz/events/1230/be
 ebys-hut?tmpl=component">This event was imported from: https://live.nelsont
 rampingclub.org.nz/events/1230/beebys-hut?tmpl=component</a>DTSTAMP:20260420T160620
DTSTART;VALUE=DATE:20230319
DTEND;VALUE=DATE:20230320
SEQUENCE:0
TRANSP:OPAQUE
END:VEVENT
END:VCALENDAR