BEGIN:VCALENDAR
VERSION:2.0
PRODID:-//jEvents 2.0 for Joomla//EN
CALSCALE:GREGORIAN
METHOD:PUBLISH
BEGIN:VEVENT
UID:842372ab36eca0a0d65246da1d2cae84
CATEGORIES:Day Trip
CREATED:20230113T195853
SUMMARY:Wainui Hut
URL;VALUE=URI:https://live.nelsontrampingclub.org.nz/events/1216/wainui-hut?tmpl=componen
 t
DESCRIPTION:An easy trip approx. 12 kms and 3.5 hours return. Can split into two groups
  if people want to walk via Evans Ridge or directly down the Wainui Valley 
 from the saddle.\nRegret, this event has been cancelled for personal reason
 s.\n This event was imported from: https://live.nelsontrampingclub.org.nz/e
 vents/1216/wainui-hut?tmpl=component
X-ALT-DESC;FMTTYPE=text/html:<p>An easy trip approx. 12 kms and 3.5 hours return. Can split into two gro
 ups if people want to walk via Evans Ridge or directly down the Wainui Vall
 ey from the saddle.</p><p>Regret, this event has been cancelled for persona
 l reasons.</p> <a href="https://live.nelsontrampingclub.org.nz/events/1216/
 wainui-hut?tmpl=component">This event was imported from: https://live.nelso
 ntrampingclub.org.nz/events/1216/wainui-hut?tmpl=component</a>DTSTAMP:20260420T160028
DTSTART:20230312T090000
SEQUENCE:0
TRANSP:OPAQUE
END:VEVENT
END:VCALENDAR