BEGIN:VCALENDAR
VERSION:2.0
PRODID:-//jEvents 2.0 for Joomla//EN
CALSCALE:GREGORIAN
METHOD:PUBLISH
BEGIN:VEVENT
UID:9ba2c8bd5a319cc6a86affebc175e5bd
CATEGORIES:Extended Trip
CREATED:20220821T040001
SUMMARY:Alpine Route 5 days. Richmond Forest Park
URL;VALUE=URI:https://live.nelsontrampingclub.org.nz/events/1131/alpine-route-5-days-rich
 mond-forest-park?tmpl=component
DESCRIPTION:5 day 4 nights. Plan to do this well known walk, starting from Hacket and c
 limbing Mt Starveall for first nights stay. Following days - Old Man Hut, R
 intoul Hut, Tarn Hut or Mid Wairoa 4th night, and out on the 5th day.\nRest
 ricted number - 4 or 5. \nHopefully Te Awaroa walkers will have dwindled by
  this date. Not a trip to be done in marginal weather, so dates may vary de
 pending on the weather ie would suit the retired or those who can give shor
 t notice of leave. I personally will black out 10 days from the start date 
 with a view that somewhere in those 10 days we will have a good weather win
 dow.\n This event was imported from: https://live.nelsontrampingclub.org.nz
 /events/1131/alpine-route-5-days-richmond-forest-park?tmpl=component
X-ALT-DESC;FMTTYPE=text/html:<p>5 day 4 nights. Plan to do this well known walk, starting from Hacket an
 d climbing Mt Starveall for first nights stay. Following days - Old Man Hut
 , Rintoul Hut, Tarn Hut or Mid Wairoa 4th night, and out on the 5th day.</p
 ><p>Restricted number - 4 or 5.&nbsp;</p><p>Hopefully Te Awaroa walkers wil
 l have dwindled by this date. Not a trip to be done in marginal weather, so
  dates may vary depending on the weather ie would suit the retired or those
  who can give short notice of leave. I personally will black out 10 days fr
 om the start date with a view that somewhere in those 10 days we will have 
 a good weather window.</p> <a href="https://live.nelsontrampingclub.org.nz/
 events/1131/alpine-route-5-days-richmond-forest-park?tmpl=component">This e
 vent was imported from: https://live.nelsontrampingclub.org.nz/events/1131/
 alpine-route-5-days-richmond-forest-park?tmpl=component</a>DTSTAMP:20260420T161415
DTSTART;VALUE=DATE:20230423
DTEND;VALUE=DATE:20230428
SEQUENCE:0
TRANSP:OPAQUE
END:VEVENT
END:VCALENDAR