BEGIN:VCALENDAR
VERSION:2.0
PRODID:-//jEvents 2.0 for Joomla//EN
CALSCALE:GREGORIAN
METHOD:PUBLISH
BEGIN:VEVENT
UID:675b775d737c67475a96f8be1acceaea
CATEGORIES:Club Night
CREATED:20220719T083018
SUMMARY:Trip planning meeting
URL;VALUE=URI:https://live.nelsontrampingclub.org.nz/events/1114/trip-planning-meeting?tm
 pl=component
DESCRIPTION:Trip Planning Meeting - Wednesday 10th August\nSeniorNet Hall, 6pm.\nThis i
 s an evening for our trip leaders, to plan the calendar for the next 6 mont
 hs or so.  Details have been emailed to current trip leaders.\nIf you are n
 ot a current leader, but you are interested in leading trips, or want to fi
 nd out a bit more about what it is all about and how the process works, you
  are welcome to come along.  Please RSVP to Kath Ballantine This email addr
 ess is being protected from spambots. You need JavaScript enabled to view i
 t. by Monday 8th August.\n This event was imported from: https://live.nelso
 ntrampingclub.org.nz/events/1114/trip-planning-meeting?tmpl=component
X-ALT-DESC;FMTTYPE=text/html:<p>Trip Planning Meeting - Wednesday 10th August</p><p>SeniorNet Hall, 6pm.
 </p><p>This is an evening for our trip leaders, to plan the calendar for th
 e next 6 months or so.&nbsp; Details have been emailed to current trip lead
 ers.</p><p>If you are not a current leader, but you are interested in leadi
 ng trips, or want to find out a bit more about what it is all about and how
  the process works, you are welcome to come along.&nbsp; Please RSVP to Kat
 h Ballantine <joomla-hidden-mail  is-link="1" is-email="1" first="a2F0aC5iY
 WxsYW50aW5l" last="Z21haWwuY29t" text="a2F0aC5iYWxsYW50aW5lQGdtYWlsLmNvbQ==
 " base="" >This email address is being protected from spambots. You need Ja
 vaScript enabled to view it.</joomla-hidden-mail>&nbsp;by Monday 8th August
 .</p> <a href="https://live.nelsontrampingclub.org.nz/events/1114/trip-plan
 ning-meeting?tmpl=component">This event was imported from: https://live.nel
 sontrampingclub.org.nz/events/1114/trip-planning-meeting?tmpl=component</a>DTSTAMP:20260421T062828
DTSTART;VALUE=DATE:20220810
DTEND;VALUE=DATE:20220811
SEQUENCE:0
TRANSP:OPAQUE
END:VEVENT
END:VCALENDAR