BEGIN:VCALENDAR
VERSION:2.0
PRODID:-//jEvents 2.0 for Joomla//EN
CALSCALE:GREGORIAN
METHOD:PUBLISH
BEGIN:VEVENT
UID:087d2b25c6e6c8c6285409122f0eb703
CATEGORIES:Day Trip
CREATED:20220620T185745
SUMMARY:Hacket Hut /Browning hut
URL;VALUE=URI:https://live.nelsontrampingclub.org.nz/events/1102/hacket-hut-browning-hut?
 tmpl=component
DESCRIPTION:Easy tramp Hacket loop - if all participants want to go on to Browning hut,
  we'll go there. There might well be river crossings. Details to follow but
  this is meant to be an easy tramp close to Nelson.\nI (trip leader) will b
 e out of the country until 30 June so please sign up by email - or wait unt
 il July before phoning.\n This event was imported from: https://live.nelson
 trampingclub.org.nz/events/1102/hacket-hut-browning-hut?tmpl=component
X-ALT-DESC;FMTTYPE=text/html:<p>Easy tramp Hacket loop - if all participants want to go on to Browning h
 ut, we'll go there. There might well be river crossings. Details to follow 
 but this is meant to be an easy tramp close to Nelson.</p><p>I (trip leader
 ) will be out of the country until 30 June so please sign up by email - or 
 wait until July before phoning.</p> <a href="https://live.nelsontrampingclu
 b.org.nz/events/1102/hacket-hut-browning-hut?tmpl=component">This event was
  imported from: https://live.nelsontrampingclub.org.nz/events/1102/hacket-h
 ut-browning-hut?tmpl=component</a>DTSTAMP:20260421T061928
DTSTART;VALUE=DATE:20220724
DTEND;VALUE=DATE:20220725
SEQUENCE:0
TRANSP:OPAQUE
END:VEVENT
END:VCALENDAR