BEGIN:VCALENDAR
VERSION:2.0
PRODID:-//jEvents 2.0 for Joomla//EN
CALSCALE:GREGORIAN
METHOD:PUBLISH
BEGIN:VEVENT
UID:2f18e1bdd8d3e702bbc5cfa8e80dc85a
CATEGORIES:Extended Trip
CREATED:20220517T085332
SUMMARY:Queen's Birthday at Fenella Hut
URL;VALUE=URI:https://live.nelsontrampingclub.org.nz/events/1100/queen-s-birthday-at-fene
 lla-hut?tmpl=component
DESCRIPTION:Spend Queen's Birthday weekend in the beautiful Fenella Hut area.\nSaturday
 :\nDrive to the Cobb River road end (Trilobite Hut).  Easy walk along the C
 obb River Valley to Fenella Hut (4-5 hours).  Check out historic Chaffey Hu
 t and the Tent Camp on the way.  Be prepared to sleep on the floor or camp 
 outside if the hut is full, as it is a long weekend and it isn't bookable. 
 \nSunday:\nDay trip from Fenella Hut.  There are several options depending 
 on the group and the weather.  Possibilities include: Waingaro Peak and pos
 sibly on to Kakapo Peak, Xenicus Peak/Mt Gibbs, or possibly along the Locke
 tt Range towards Mt Benson.  These will all be weather dependent, and there
  could be snow, so it would be a good idea to bring ice axe and crampons if
  you want to participate in these walks.  There is also the option of stayi
 ng at the hut and exploring the immediate area. \nMonday:\nWalk out the sam
 e way.  Possible side trip to Lake Cobb, or even Round Lake if we are keen.
  \n4WD vehicles preferred for the drivers.\nTrip is listed as fit due to th
 e day trip, but would be medium if you just walk in and out to Fenella Hut 
 \n This event was imported from: https://live.nelsontrampingclub.org.nz/eve
 nts/1100/queen-s-birthday-at-fenella-hut?tmpl=component
X-ALT-DESC;FMTTYPE=text/html:<p>Spend Queen's Birthday weekend in the beautiful Fenella Hut area.</p><p>
 Saturday:</p><p>Drive to the Cobb River road end (Trilobite Hut).&nbsp; Eas
 y walk along the Cobb River Valley to Fenella Hut (4-5 hours).&nbsp; Check 
 out historic Chaffey Hut and the Tent Camp on the way.&nbsp; Be prepared to
  sleep on the floor or camp outside if the hut is full, as it is a long wee
 kend and it isn't bookable.&nbsp;</p><p>Sunday:</p><p>Day trip from Fenella
  Hut.&nbsp; There are several options depending on the group and the weathe
 r.&nbsp; Possibilities include: Waingaro Peak and possibly on to Kakapo Pea
 k, Xenicus Peak/Mt Gibbs, or possibly along the Lockett Range towards Mt Be
 nson.&nbsp; These will all be weather dependent, and there could be snow, s
 o it would be a good idea to bring ice axe and crampons if you want to part
 icipate in these walks.&nbsp; There is also the option of staying at the hu
 t and exploring the immediate area.&nbsp;</p><p>Monday:</p><p>Walk out the 
 same way.&nbsp; Possible side trip to Lake Cobb, or even Round Lake if we a
 re keen.&nbsp;</p><p>4WD vehicles preferred for the drivers.</p><p>Trip is 
 listed as fit due to the day trip, but would be medium if you just walk in 
 and out to Fenella Hut&nbsp;</p> <a href="https://live.nelsontrampingclub.o
 rg.nz/events/1100/queen-s-birthday-at-fenella-hut?tmpl=component">This even
 t was imported from: https://live.nelsontrampingclub.org.nz/events/1100/que
 en-s-birthday-at-fenella-hut?tmpl=component</a>DTSTAMP:20260421T062700
DTSTART;VALUE=DATE:20220604
DTEND;VALUE=DATE:20220607
SEQUENCE:0
TRANSP:OPAQUE
END:VEVENT
END:VCALENDAR