BEGIN:VCALENDAR
VERSION:2.0
PRODID:-//jEvents 2.0 for Joomla//EN
CALSCALE:GREGORIAN
METHOD:PUBLISH
BEGIN:VEVENT
UID:d4ea8a7fcd483fca671e594b9f9e1649
CATEGORIES:Overnight Trip
CREATED:20220515T034315
SUMMARY:Sylvester Hut Mid Winter Xmas and day walks
URL;VALUE=URI:https://live.nelsontrampingclub.org.nz/events/1098/sylvester-hut-mid-winter
 -xmas-and-day-walks?tmpl=component
DESCRIPTION:Travel on Sat 9th to Cobb resevoir and walk to Sylvester Hut. Traverse belo
 w Iron Hill to Sylvester lakes and possibly Iron Lake if time allows. Eveni
 ng - Shared meal. Sunday possibly early start and walk to Iron Hill.  \nSyl
 vester Hut is a serviced hut - $15 hut pass required.\nNB I had listed Asbe
 stos Cottage as the trip on Sunday - but the short days prevents us returni
 ng in time to be off the worst off the Cobb road in the dark.\n\n This even
 t was imported from: https://live.nelsontrampingclub.org.nz/events/1098/syl
 vester-hut-mid-winter-xmas-and-day-walks?tmpl=component
X-ALT-DESC;FMTTYPE=text/html:<p>Travel on Sat 9th to Cobb resevoir and walk to Sylvester Hut. Traverse b
 elow Iron Hill to Sylvester lakes and possibly Iron Lake if time allows. Ev
 ening - Shared meal. Sunday possibly early start and walk to Iron Hill.&nbs
 p;&nbsp;</p><p>Sylvester Hut is a serviced hut - $15 hut pass required.</p>
 <p>NB I had listed Asbestos Cottage as the trip on Sunday - but the short d
 ays prevents us returning in time to be off the worst off the Cobb road in 
 the dark.</p><p></p> <a href="https://live.nelsontrampingclub.org.nz/events
 /1098/sylvester-hut-mid-winter-xmas-and-day-walks?tmpl=component">This even
 t was imported from: https://live.nelsontrampingclub.org.nz/events/1098/syl
 vester-hut-mid-winter-xmas-and-day-walks?tmpl=component</a>DTSTAMP:20260421T062822
DTSTART;VALUE=DATE:20220709
DTEND;VALUE=DATE:20220711
SEQUENCE:0
TRANSP:OPAQUE
END:VEVENT
END:VCALENDAR