BEGIN:VCALENDAR
VERSION:2.0
PRODID:-//jEvents 2.0 for Joomla//EN
CALSCALE:GREGORIAN
METHOD:PUBLISH
BEGIN:VEVENT
UID:6a97677b445d10c2ebe973f9ae177769
CATEGORIES:Extended Trip
CREATED:20220211T054329
SUMMARY:Mt Luna Circuit
URL;VALUE=URI:https://live.nelsontrampingclub.org.nz/events/1082/mt-luna-circuit?tmpl=com
 ponent
DESCRIPTION:Stone Hut - Mt Luna Tops - Kiwi Saddle\nSaturday early morning, drive to Ro
 lling River carpark. 6-7 hrs walk to Stone Hut (10 bunks, $5), along the Wa
 ngapeka Track.\nSunday, follow the route over Mt Luna (1630m), tops and rid
 ges, to Kiwi Saddle Hut (6 bunks, $5). Guess 6+ hrs. It is a mostly unmarke
 d route, including steep sections and rock scrambling!\nMonday (Anzac), wal
 k back to carpark, 6 hrs, and drive home.\nBring sleeping mats and/or tents
 , as the huts might be full.\nI have not done this trip. I am very happy fo
 r someone to join who has been up Mt Luna before and/or can help with route
  finding.\nPlease note: I'll be guiding in CHCH and am out off range till F
 riday night, the day before departure. Therefore, Rob has offered to coordi
 nate car pooling and to make the weather call. He will also co-lead the tri
 p. So, you 'll get an email from him, not from me, after you register.\nReg
 ret,  this trip has been cancelled due to the weather forecast. \n This eve
 nt was imported from: https://live.nelsontrampingclub.org.nz/events/1082/mt
 -luna-circuit?tmpl=component
X-ALT-DESC;FMTTYPE=text/html:<p>Stone Hut - Mt Luna Tops - Kiwi Saddle</p><p>Saturday early morning, dri
 ve to Rolling River carpark. 6-7 hrs walk to Stone Hut (10 bunks, $5), alon
 g the Wangapeka Track.</p><p>Sunday, follow the route over Mt Luna (1630m),
  tops and ridges, to Kiwi Saddle Hut (6 bunks, $5). Guess 6+ hrs. It is a m
 ostly unmarked route, including steep sections and rock scrambling!</p><p>M
 onday (Anzac), walk back to carpark, 6 hrs, and drive home.</p><p>Bring sle
 eping mats and/or tents, as the huts might be full.</p><p>I have not done t
 his trip. I am very happy for someone to join who has been up Mt Luna befor
 e and/or can help with route finding.</p><p>Please note: I'll be guiding in
  CHCH and am out off range till Friday night, the day before departure. The
 refore, Rob has offered to coordinate car pooling and to make the weather c
 all. He will also co-lead the trip. So, you 'll get an email from him, not 
 from me, after you register.</p><p>Regret,&nbsp; this trip has been cancell
 ed due to the weather forecast.&nbsp;</p> <a href="https://live.nelsontramp
 ingclub.org.nz/events/1082/mt-luna-circuit?tmpl=component">This event was i
 mported from: https://live.nelsontrampingclub.org.nz/events/1082/mt-luna-ci
 rcuit?tmpl=component</a>DTSTAMP:20260421T075949
DTSTART;VALUE=DATE:20220423
DTEND;VALUE=DATE:20220426
SEQUENCE:0
TRANSP:OPAQUE
END:VEVENT
END:VCALENDAR