BEGIN:VCALENDAR
VERSION:2.0
PRODID:-//jEvents 2.0 for Joomla//EN
CALSCALE:GREGORIAN
METHOD:PUBLISH
BEGIN:VEVENT
UID:d200b93bab7bac0043f7ac6b1fc1b286
CATEGORIES:Day Trip
CREATED:20211206T234244
SUMMARY:Harwoods Hole & Takaka Hill Walkway
URL;VALUE=URI:https://live.nelsontrampingclub.org.nz/events/1059/harwoods-hole-takaka-hil
 l-walkway?tmpl=component
DESCRIPTION:<p>I have decided to change the order and start off at the Takaka Hill Walk
 way as it could be pretty hot (22 deg C) and the walk to Harwoods Hole is i
 n the shade. So:</p><p>NEW PLAN</p><p>9am (ish) depart Richmond Squash Club
 , drive to Takaka Hill Walkway 1 hour</p><p>10am ish Takaka Hill Walkway Fu
 ll loop is 2 hours. Morning tea about 11am</p><p>12.15pm ish drive to Harwo
 ods Hole track - 30 minutes.</p><p>12.45pm. 45minutes walk to Gorge Creek v
 iewpoint. 6km flat track ,</p><p>1.30pm lunch at the viewpoint (half an hou
 r)</p><p>2.45pm leave for Riwaka resurgence 40 minutes.</p><p>3.30pm&nbsp; 
 ish 5 minute walk to resurgence. Half an hour for look around.</p><p>4pm is
 h leave for Richmond - 50minutes</p><p>5pm back at squash club at the lates
 t</p><p></p><p>OLD PLAN</p><p>9am depart Richmond Squash Club, drive to Har
 woods Hole Track. 1.5 hrs</p><p>Walk to view of Gorge Creek (morning tea) a
 nd to top of Harwooods Hole. 6km, flat track, described by DOC as 1.5 hours
  round trip.</p><p>12.30 ish depart for Takaka Hill Walkway carpark about 3
 0minutes drive. Full loop is 5.1km about 2 hours. Interesting karst landsca
 pe. Lunch.</p><p>3.30pm ish depart for Richmond (1 hour) or optional stop a
 t Riwaka Resurgence (40 minutes). Only a 5 minute walk to see it and a 50 m
 inute return to Richmond.</p><p>Back at Richmond 5/5.30pm.</p><p>My researc
 h shows that the Riwaka Resurgence is sacred to Te Ātiawa and Ngāti Rārua s
 o no swimming.</p><p>This is my first time leading a trip for NTC. A bit of
  a tourist jaunt; but that's all good as I am new to the area! Look forward
  to seeing you</p><p></p><p></p> <a href="https://live.nelsontrampingclub.o
 rg.nz/events/1059/harwoods-hole-takaka-hill-walkway?tmpl=component">This ev
 ent was imported from: https://live.nelsontrampingclub.org.nz/events/1059/h
 arwoods-hole-takaka-hill-walkway?tmpl=component</a>DTSTAMP:20260421T062557
DTSTART;VALUE=DATE:20220108
DTEND;VALUE=DATE:20220109
SEQUENCE:0
TRANSP:OPAQUE
END:VEVENT
END:VCALENDAR