BEGIN:VCALENDAR
VERSION:2.0
PRODID:-//jEvents 2.0 for Joomla//EN
CALSCALE:GREGORIAN
METHOD:PUBLISH
BEGIN:VEVENT
UID:5507d99f8b95dda1d7d1c6ce79c0299d
CATEGORIES:Overnight Trip
CREATED:20250305T084214
SUMMARY:Castle Rock Hut overnighter
URL;VALUE=URI:https://live.nelsontrampingclub.org.nz/events/calendar/1510/castle-rock-hut
 -overnighter?tmpl=component
DESCRIPTION:<p>Changing the original Mt Riley/Mt Sunday trip to a completely different 
 trip, due to the ongoing closure of Northbank and Onamalututu Roads.</p><p>
 An overnight trip from Marahau to Castle Rock Hut in Abel Tasman National P
 ark.</p><p>On Saturday we will head up to Castle Rock Hut via Holyoake Clea
 ring on the Inland Track.&nbsp; 15.1km, 5hr30 (DOC time).&nbsp; 730m climb.
 &nbsp; A steady climb with some steep sections through regenerating native 
 bush, with some nice views back to the coast.&nbsp; Opportunity to visit th
 e Castle Rocks lookout 20 minutes from the hut.&nbsp; 8 bunk hut with plent
 y of space for camping.</p><p>On Sunday we have an option to do a longer lo
 op, taking the track down to Akersten Bay and following the Coastal Track b
 ack to Marahau.&nbsp; I expect this will take a good 8 hours.&nbsp; An alte
 rnative is to return the way we came, or even have a group doing each depen
 ding on numbers and group make-up.&nbsp;</p><p>&nbsp;Another alternative, i
 f we have sufficient numbers and a second leader, is to do a crossover thro
 ugh trip to Canaan Downs, with one group starting at Marahau and the other 
 at Canaan Downs carpark, meeting in the middle at Castle Rock Hut for the n
 ight and doing a key swap.&nbsp; Let me know if you would be interested in 
 this when you sign up.&nbsp;</p> <a href="https://live.nelsontrampingclub.o
 rg.nz/events/calendar/1510/castle-rock-hut-overnighter?tmpl=component">This
  event was imported from: https://live.nelsontrampingclub.org.nz/events/cal
 endar/1510/castle-rock-hut-overnighter?tmpl=component</a>DTSTAMP:20260419T204747
DTSTART;VALUE=DATE:20251004
DTEND;VALUE=DATE:20251006
SEQUENCE:0
TRANSP:OPAQUE
END:VEVENT
END:VCALENDAR