BEGIN:VCALENDAR
VERSION:2.0
PRODID:-//jEvents 2.0 for Joomla//EN
CALSCALE:GREGORIAN
METHOD:PUBLISH
BEGIN:VEVENT
UID:78bf7d5096a00d51778dfc87f626db28
CATEGORIES:Overnight Trip
CREATED:20241208T091723
SUMMARY:Mt Owen via Fyfe River - return via Sunrise Peak POSTPONED to Monday 23 and Tuesday 24 
URL;VALUE=URI:https://live.nelsontrampingclub.org.nz/events/calendar/1486/mt-owen-via-fyf
 e-river-return-via-sunrise-peak-postponed-to-monday-23-and-tuesday-24?tmpl=
 component
DESCRIPTION:From Owen Valley East Road ascend Fyfe River to Branch Creek Hut. Sunday mo
 rning to Mt Owen summit then head south to Sunrise Peak and follow the trac
 k back to the carpark.\nTents to be taken and possibility of camping on the
  tops to shorten Sunday's effort. Reverse direction will also be considered
 . POSTPONED TO Monday 23 and Tuesday 24.\n This event was imported from: ht
 tps://live.nelsontrampingclub.org.nz/events/calendar/1486/mt-owen-via-fyfe-
 river-return-via-sunrise-peak-postponed-to-monday-23-and-tuesday-24?tmpl=co
 mponent
X-ALT-DESC;FMTTYPE=text/html:<p>From Owen Valley East Road ascend Fyfe River to Branch Creek Hut. Sunday
  morning to Mt Owen summit then head south to Sunrise Peak and follow the t
 rack back to the carpark.</p><p>Tents to be taken and possibility of campin
 g on the tops to shorten Sunday's effort. Reverse direction will also be co
 nsidered. POSTPONED TO Monday 23 and Tuesday 24.</p> <a href="https://live.
 nelsontrampingclub.org.nz/events/calendar/1486/mt-owen-via-fyfe-river-retur
 n-via-sunrise-peak-postponed-to-monday-23-and-tuesday-24?tmpl=component">Th
 is event was imported from: https://live.nelsontrampingclub.org.nz/events/c
 alendar/1486/mt-owen-via-fyfe-river-return-via-sunrise-peak-postponed-to-mo
 nday-23-and-tuesday-24?tmpl=component</a>DTSTAMP:20260419T220557
DTSTART;VALUE=DATE:20241223
DTEND;VALUE=DATE:20241225
SEQUENCE:0
TRANSP:OPAQUE
END:VEVENT
END:VCALENDAR