BEGIN:VCALENDAR
VERSION:2.0
PRODID:-//jEvents 2.0 for Joomla//EN
CALSCALE:GREGORIAN
METHOD:PUBLISH
BEGIN:VEVENT
UID:6685b5049dcfda481930510cf5291505
CATEGORIES:Summer Hill Series
CREATED:20240116T062734
SUMMARY:Wednesday walk - Centre NZ & Walters Bluff
URL;VALUE=URI:https://live.nelsontrampingclub.org.nz/events/calendar/1367/wednesday-walk-
 centre-nz-walters-bluff?tmpl=component
DESCRIPTION:Meet 5.30pm at the bottom of the Centre of NZ track, Botanics Park, Milton 
 st\nWe'll walk up the hill to the Walters Bluff track, then down to Founder
 s and back through Neale Park and the Maitai River.\nAllow 1.5 hrs .\n This
  event was imported from: https://live.nelsontrampingclub.org.nz/events/cal
 endar/1367/wednesday-walk-centre-nz-walters-bluff?tmpl=component
X-ALT-DESC;FMTTYPE=text/html:<p>Meet 5.30pm at the bottom of the Centre of NZ track, Botanics Park, Milt
 on st</p><p>We'll walk up the hill to the Walters Bluff track, then down to
  Founders and back through Neale Park and the Maitai River.</p><p>Allow 1.5
  hrs .</p> <a href="https://live.nelsontrampingclub.org.nz/events/calendar/
 1367/wednesday-walk-centre-nz-walters-bluff?tmpl=component">This event was 
 imported from: https://live.nelsontrampingclub.org.nz/events/calendar/1367/
 wednesday-walk-centre-nz-walters-bluff?tmpl=component</a>DTSTAMP:20260419T220556
DTSTART;VALUE=DATE:20240117
DTEND;VALUE=DATE:20240118
SEQUENCE:0
TRANSP:OPAQUE
END:VEVENT
END:VCALENDAR