BEGIN:VCALENDAR
VERSION:2.0
PRODID:-//jEvents 2.0 for Joomla//EN
CALSCALE:GREGORIAN
METHOD:PUBLISH
BEGIN:VEVENT
UID:c6c3bf5f566e0ede5552764926c1b6d1
CATEGORIES:Day Trip
CREATED:20210721T204604
SUMMARY:Boulder Bank - new date
URL;VALUE=URI:https://live.nelsontrampingclub.org.nz/component/jevents/970/boulder-bank-n
 ew-date?Itemid=111&amp;tmpl=component
DESCRIPTION:Ferry to the lighthouse on the Boulder Bank, then walk the length of the Bo
 ulder Bank to The Glen.  Features along the way include exploring the light
 house, looking at the old baches, and a tree where shags love to nest.  A g
 reat opportunity to explore this famous Nelson landmark.  A 9km walk, appro
 x 4 hours.  Although there are no hills, it is hard underfoot - we are walk
 ing on boulders after all!  Wear reasonable walking shoes.\nThe ferry cost 
 will depend on numbers, but will most likely be $15 per person (plus $3 pet
 rol money for the car shuttle).  We will need to organise a car shuttle.  F
 urther details to be arranged closer to the time. \nPlease register by Tues
 day 26th October to allow time to organise everything. \n This event was im
 ported from: https://live.nelsontrampingclub.org.nz/component/jevents/970/b
 oulder-bank-new-date?Itemid=111&amp;tmpl=component
X-ALT-DESC;FMTTYPE=text/html:<p>Ferry to the lighthouse on the Boulder Bank, then walk the length of the
  Boulder Bank to The Glen.&nbsp; Features along the way include exploring t
 he lighthouse, looking at the old baches, and a tree where shags love to ne
 st.&nbsp; A great opportunity to explore this famous Nelson landmark.&nbsp;
  A 9km walk, approx 4 hours.&nbsp; Although there are no hills, it is hard 
 underfoot - we are walking on boulders after all!&nbsp; Wear reasonable wal
 king shoes.</p><p>The ferry cost will depend on numbers, but will most like
 ly be $15 per person (plus $3 petrol money for the car shuttle).&nbsp; We w
 ill need to organise a car shuttle.&nbsp; Further details to be arranged cl
 oser to the time.&nbsp;</p><p><strong>Please register by Tuesday 26th Octob
 er to allow time to organise everything.&nbsp;</strong></p> <a href="https:
 //live.nelsontrampingclub.org.nz/component/jevents/970/boulder-bank-new-dat
 e?Itemid=111&amp;tmpl=component">This event was imported from: https://live
 .nelsontrampingclub.org.nz/component/jevents/970/boulder-bank-new-date?Item
 id=111&amp;tmpl=component</a>DTSTAMP:20260420T025131
DTSTART:20211106T080000
DTEND:20211106T170000
SEQUENCE:0
TRANSP:OPAQUE
END:VEVENT
END:VCALENDAR