BEGIN:VCALENDAR
VERSION:2.0
PRODID:-//jEvents 2.0 for Joomla//EN
CALSCALE:GREGORIAN
METHOD:PUBLISH
BEGIN:VEVENT
UID:3c7c6d86598ee88483801d369b9afeba
CATEGORIES:Day Trip
CREATED:20191227T035240
SUMMARY:Roding Mines/Malita loop 
URL;VALUE=URI:https://live.nelsontrampingclub.org.nz/component/jevents/96/roding-mines-ma
 lita-loop?Itemid=111&amp;tmpl=component
DESCRIPTION:From the caretaker's house at the end of Aniseed Valley, head up the Roding
 /United Creek into the mineral belt to United Mine and steeply up to the to
 p of the ridge. Follow ridge up to the Browning/Rocks track, head west then
  over Mt Meares and either down to Champion Mine or over Malita and out. Ri
 ver crossings and some off track. Approx. 7 hours.\n This event was importe
 d from: https://live.nelsontrampingclub.org.nz/component/jevents/96/roding-
 mines-malita-loop?Itemid=111&amp;tmpl=component
X-ALT-DESC;FMTTYPE=text/html:<p>From the caretaker's house at the end of Aniseed Valley, head up the Rod
 ing/United Creek into the mineral belt to United Mine and steeply up to the
  top of the ridge. Follow ridge up to the Browning/Rocks track, head west t
 hen over Mt Meares and either down to Champion Mine or over Malita and out.
  River crossings and some off track. Approx. 7 hours.</p> <a href="https://
 live.nelsontrampingclub.org.nz/component/jevents/96/roding-mines-malita-loo
 p?Itemid=111&amp;tmpl=component">This event was imported from: https://live
 .nelsontrampingclub.org.nz/component/jevents/96/roding-mines-malita-loop?It
 emid=111&amp;tmpl=component</a>DTSTAMP:20260420T004314
DTSTART;VALUE=DATE:20121104
DTEND;VALUE=DATE:20121105
SEQUENCE:0
TRANSP:OPAQUE
END:VEVENT
END:VCALENDAR