BEGIN:VCALENDAR
VERSION:2.0
PRODID:-//jEvents 2.0 for Joomla//EN
CALSCALE:GREGORIAN
METHOD:PUBLISH
BEGIN:VEVENT
UID:6725d15e10820add76b74c8547338787
CATEGORIES:Extended Trip
CREATED:20191227T035326
SUMMARY:Pelorus sail or s/walk
URL;VALUE=URI:https://live.nelsontrampingclub.org.nz/component/jevents/670/pelorus-sail-o
 r-s-walk?Itemid=111&amp;tmpl=component
DESCRIPTION:Sailing trip in Pelorus Sound on my 9m catamaran. Pickup and drop off will 
 be in the vicinity of Tennyson Inlet. You can do either a day trip or I can
  take up to two passengers overnight, provided the two are cosy with each o
 ther. If you bring a tent or stay in Matai Bay Hut, you can do multiple day
  trips. If you wish, you can combine the sailing with a tramp of your choic
 e. Email me, and if you want to speak I will phone you when I have Spark re
 ception. There is a charge of $15pp/day to cover boat running costs.\n This
  event was imported from: https://live.nelsontrampingclub.org.nz/component/
 jevents/670/pelorus-sail-or-s-walk?Itemid=111&amp;tmpl=component
X-ALT-DESC;FMTTYPE=text/html:<p>Sailing trip in Pelorus Sound on my 9m catamaran. Pickup and drop off wi
 ll be in the vicinity of Tennyson Inlet. You can do either a day trip or I 
 can take up to two passengers overnight, provided the two are cosy with eac
 h other. If you bring a tent or stay in Matai Bay Hut, you can do multiple 
 day trips. If you wish, you can combine the sailing with a tramp of your ch
 oice. Email me, and if you want to speak I will phone you when I have Spark
  reception. There is a charge of $15pp/day to cover boat running costs.</p>
  <a href="https://live.nelsontrampingclub.org.nz/component/jevents/670/pelo
 rus-sail-or-s-walk?Itemid=111&amp;tmpl=component">This event was imported f
 rom: https://live.nelsontrampingclub.org.nz/component/jevents/670/pelorus-s
 ail-or-s-walk?Itemid=111&amp;tmpl=component</a>DTSTAMP:20260420T012948
DTSTART;VALUE=DATE:20190109
DTEND;VALUE=DATE:20190111
SEQUENCE:0
TRANSP:OPAQUE
END:VEVENT
END:VCALENDAR