BEGIN:VCALENDAR
VERSION:2.0
PRODID:-//jEvents 2.0 for Joomla//EN
CALSCALE:GREGORIAN
METHOD:PUBLISH
BEGIN:VEVENT
UID:d937f97c7308fef5edb95adde7882b4a
CATEGORIES:Day Trip
CREATED:20191227T035326
SUMMARY:Billies Knob, Kahurangi 
URL;VALUE=URI:https://live.nelsontrampingclub.org.nz/component/jevents/668/billies-knob,-
 kahurangi?Itemid=111&amp;tmpl=component
DESCRIPTION:Sunday\nGrunty 1350m climb, particularly on the last part up a steep scree 
 slope.  We will go via the ridge and option to do circuit  back via Blue Cr
 eek. Super views all round from the top. Good fitness for this trip :  )\nO
 ption: The Dart River ford can be impassible after heavy rain, so the alter
 nate destination will be Mt Arthur, up by the normal route and down via the
  hole-in-the-wall.\nBest means of contact is to leave me your Email address
  on my work phone and let me know if willing to take 4WD or high clearance 
 car. I will be in touch sometime after I get back to work on Thursday. Chee
 rs\n This event was imported from: https://live.nelsontrampingclub.org.nz/c
 omponent/jevents/668/billies-knob,-kahurangi?Itemid=111&amp;tmpl=component
X-ALT-DESC;FMTTYPE=text/html:<p><em>Sunday</em></p><p>Grunty 1350m climb, particularly on the last part 
 up a steep scree slope.&nbsp; We will go via the ridge and option to do cir
 cuit&nbsp; back via Blue Creek. Super views all round from the top. Good fi
 tness for this trip :&nbsp; )</p><p><strong>Option:</strong>&nbsp;The Dart 
 River ford can be impassible after heavy rain, so the alternate destination
  will be Mt Arthur, up by the normal route and down via the hole-in-the-wal
 l.</p><p>Best means of contact is to leave me your Email address on my work
  phone and let me know if willing to take 4WD or high clearance car. I will
  be in touch sometime after I get back to work on Thursday. Cheers</p> <a h
 ref="https://live.nelsontrampingclub.org.nz/component/jevents/668/billies-k
 nob,-kahurangi?Itemid=111&amp;tmpl=component">This event was imported from:
  https://live.nelsontrampingclub.org.nz/component/jevents/668/billies-knob,
 -kahurangi?Itemid=111&amp;tmpl=component</a>DTSTAMP:20260425T032908
DTSTART;VALUE=DATE:20181230
DTEND;VALUE=DATE:20181231
SEQUENCE:0
TRANSP:OPAQUE
END:VEVENT
END:VCALENDAR