BEGIN:VCALENDAR
VERSION:2.0
PRODID:-//jEvents 2.0 for Joomla//EN
CALSCALE:GREGORIAN
METHOD:PUBLISH
BEGIN:VEVENT
UID:3c21130ea817d3d502045d9c05e8e7b7
CATEGORIES:Day Trip
CREATED:20191227T035322
SUMMARY:Rough Creek, St Arnaud R 
URL;VALUE=URI:https://live.nelsontrampingclub.org.nz/component/jevents/626/rough-creek,-s
 t-arnaud-r?Itemid=111&amp;tmpl=component
DESCRIPTION:From the Rainbow Road, climb to the St Arnaud Range via Rough Creek, traver
 se the tops north for 2.5km, past the turnoff to Parachute Rocks. Then desc
 end back to Rainbow Rd via a spur near No Catchem Stream. Approximately 120
 0m climbing and 10km, all off track.\n This event was imported from: https:
 //live.nelsontrampingclub.org.nz/component/jevents/626/rough-creek,-st-arna
 ud-r?Itemid=111&amp;tmpl=component
X-ALT-DESC;FMTTYPE=text/html:<p>From the Rainbow Road, c<span style="font-size: 13px;">limb to the St Ar
 naud Range via Rough Creek, traverse the tops&nbsp;north for 2.5km, past th
 e turnoff to Parachute Rocks. Then descend back to Rainbow Rd via a spur ne
 ar No Catchem Stream. Approximately 1200m climbing and 10km, all off track.
 </span></p> <a href="https://live.nelsontrampingclub.org.nz/component/jeven
 ts/626/rough-creek,-st-arnaud-r?Itemid=111&amp;tmpl=component">This event w
 as imported from: https://live.nelsontrampingclub.org.nz/component/jevents/
 626/rough-creek,-st-arnaud-r?Itemid=111&amp;tmpl=component</a>DTSTAMP:20260425T032029
DTSTART;VALUE=DATE:20181118
DTEND;VALUE=DATE:20181119
SEQUENCE:0
TRANSP:OPAQUE
END:VEVENT
END:VCALENDAR