BEGIN:VCALENDAR
VERSION:2.0
PRODID:-//jEvents 2.0 for Joomla//EN
CALSCALE:GREGORIAN
METHOD:PUBLISH
BEGIN:VEVENT
UID:9c18847399e1b5734276102aa215947f
CATEGORIES:Day Trip
CREATED:20191227T035319
SUMMARY:Conical Hill
URL;VALUE=URI:https://live.nelsontrampingclub.org.nz/component/jevents/592/conical-hill?I
 temid=111&amp;tmpl=component
DESCRIPTION:A day walk into the Hope Range. A steep climb, lovely bush and good views. 
 We travel to Tui via Tapawera and follow Hodgkinsons Rd till the start of t
 he track. The track goes through an area of pine forest at a reasonable inc
 line, then as the incline increases we are in beech forest. The route is fa
 irly steep and follows a ridge till it flattens off towards the peak. Retur
 n the same way.\n This event was imported from: https://live.nelsontramping
 club.org.nz/component/jevents/592/conical-hill?Itemid=111&amp;tmpl=componen
 t
X-ALT-DESC;FMTTYPE=text/html:<p>A day walk into the Hope Range. A steep climb, lovely bush and good view
 s. We travel to Tui via Tapawera and follow Hodgkinsons Rd till the start o
 f the track. The track goes through an area of pine forest at a reasonable 
 incline, then as the incline increases we are in beech forest. The route is
  fairly steep and follows a ridge till it flattens off towards the peak. Re
 turn the same way.</p> <a href="https://live.nelsontrampingclub.org.nz/comp
 onent/jevents/592/conical-hill?Itemid=111&amp;tmpl=component">This event wa
 s imported from: https://live.nelsontrampingclub.org.nz/component/jevents/5
 92/conical-hill?Itemid=111&amp;tmpl=component</a>DTSTAMP:20260425T031917
DTSTART;VALUE=DATE:20180520
DTEND;VALUE=DATE:20180521
SEQUENCE:0
TRANSP:OPAQUE
END:VEVENT
END:VCALENDAR