BEGIN:VCALENDAR
VERSION:2.0
PRODID:-//jEvents 2.0 for Joomla//EN
CALSCALE:GREGORIAN
METHOD:PUBLISH
BEGIN:VEVENT
UID:d8192d02f10143e3aebe60eade366ae5
CATEGORIES:Day Trip
CREATED:20191227T035316
SUMMARY:Maitai Caves
URL;VALUE=URI:https://live.nelsontrampingclub.org.nz/component/jevents/554/maitai-caves?I
 temid=111&amp;tmpl=component
DESCRIPTION:Easy and relaxed stroll up to the Maitai caves, no mountains to climb, only
  a gentle incline just before we reach the caves. Lunch at the caves and ti
 me to explore before returning back the same way. 3-4 hour easy round trip.
  \n This event was imported from: https://live.nelsontrampingclub.org.nz/co
 mponent/jevents/554/maitai-caves?Itemid=111&amp;tmpl=component
X-ALT-DESC;FMTTYPE=text/html:<p>Easy and relaxed stroll up to the Maitai caves, no mountains to climb, o
 nly a gentle incline just before we reach the caves. Lunch at the caves and
  time to explore before returning back the same way. 3-4 hour easy round tr
 ip.&nbsp;</p> <a href="https://live.nelsontrampingclub.org.nz/component/jev
 ents/554/maitai-caves?Itemid=111&amp;tmpl=component">This event was importe
 d from: https://live.nelsontrampingclub.org.nz/component/jevents/554/maitai
 -caves?Itemid=111&amp;tmpl=component</a>DTSTAMP:20260420T022909
DTSTART;VALUE=DATE:20181216
DTEND;VALUE=DATE:20181217
SEQUENCE:0
TRANSP:OPAQUE
END:VEVENT
END:VCALENDAR