BEGIN:VCALENDAR
VERSION:2.0
PRODID:-//jEvents 2.0 for Joomla//EN
CALSCALE:GREGORIAN
METHOD:PUBLISH
BEGIN:VEVENT
UID:69b18101fc3abf7b4389672f8258e4b5
CATEGORIES:Day Trip
CREATED:20191227T035315
SUMMARY:Te Pokohiwi/Boulder Bank
URL;VALUE=URI:https://live.nelsontrampingclub.org.nz/component/jevents/552/te-pokohiwi-bo
 ulder-bank?Itemid=111&amp;tmpl=component
DESCRIPTION:Well I had been aiming to run a training weekend this weekend, but unfortun
 ately due to lack of resources/injured trainer/access roads for where we wa
 nted to go being closed after the recent storms, the training weekend was c
 ancelled and I decided to put on a small local day walk instead.\nGood chan
 ce to look at Nelson from the other side of the water and to check out the 
 lighthouse.  8km walk from Boulder Bank Drive to 'The Cut', which takes 2-3
  hours one way. The Boulder Bank is rough, dry and very exposed, so be prep
 ared for all kinds of weather and wear strong shoes.  Bring your cameras an
 d I'll bring some local history facts.  \n This event was imported from: ht
 tps://live.nelsontrampingclub.org.nz/component/jevents/552/te-pokohiwi-boul
 der-bank?Itemid=111&amp;tmpl=component
X-ALT-DESC;FMTTYPE=text/html:<p>Well I had been aiming to run a training weekend this weekend, but unfor
 tunately due to lack of resources/injured trainer/access roads for where we
  wanted to go being closed after the recent storms, the training weekend wa
 s cancelled and I decided to put on a small local day walk instead.</p><p>G
 ood chance to look at Nelson from the other side of the water and to check 
 out the lighthouse.&nbsp; 8km walk from Boulder Bank Drive to 'The Cut', wh
 ich takes 2-3 hours one way. The Boulder Bank is rough, dry and very expose
 d, so be prepared for all kinds of weather and wear strong shoes.&nbsp; Bri
 ng your cameras and I'll bring some local history facts.&nbsp;&nbsp;</p> <a
  href="https://live.nelsontrampingclub.org.nz/component/jevents/552/te-poko
 hiwi-boulder-bank?Itemid=111&amp;tmpl=component">This event was imported fr
 om: https://live.nelsontrampingclub.org.nz/component/jevents/552/te-pokohiw
 i-boulder-bank?Itemid=111&amp;tmpl=component</a>DTSTAMP:20260425T031050
DTSTART;VALUE=DATE:20180324
DTEND;VALUE=DATE:20180325
SEQUENCE:0
TRANSP:OPAQUE
END:VEVENT
END:VCALENDAR