BEGIN:VCALENDAR
VERSION:2.0
PRODID:-//jEvents 2.0 for Joomla//EN
CALSCALE:GREGORIAN
METHOD:PUBLISH
BEGIN:VEVENT
UID:df750f78bbd2809e3c990681a41c77c5
CATEGORIES:Day Trip
CREATED:20191227T035312
SUMMARY:Days Track circuit
URL;VALUE=URI:https://live.nelsontrampingclub.org.nz/component/jevents/512/days-track-cir
 cuit?Itemid=111&amp;tmpl=component
DESCRIPTION:Sunday\nMeet at the Lions playground behind the Tahuna library at 9.30am an
 d proceed along Rocks Road to climb up the reinstated Days track to Princes
  Drive returning via the Basin Reserve.https://www.stuff.co.nz/nelson-mail/
 our-people/96437434/reinstated-days-track-officially-opens-on-tahunanui-hil
 ls-at-nelson (https://www.stuff.co.nz/nelson-mail/our-people/96437434/reins
 tated-days-track-officially-opens-on-tahunanui-hills-at-nelson) This event 
 was imported from: https://live.nelsontrampingclub.org.nz/component/jevents
 /512/days-track-circuit?Itemid=111&amp;tmpl=component
X-ALT-DESC;FMTTYPE=text/html:<p><em>Sunday</em></p><div style="font-family: verdana, arial, helvetica, s
 ans-serif; background-color: #ffffff; font-size: small;">Meet at the Lions 
 playground behind the Tahuna library at 9.30am and proceed along Rocks Road
  to climb up the reinstated Days track to Princes Drive returning via the B
 asin Reserve.</div><div style="font-family: verdana, arial, helvetica, sans
 -serif; background-color: #ffffff; font-size: small;"><a href="https://www.
 stuff.co.nz/nelson-mail/our-people/96437434/reinstated-days-track-officiall
 y-opens-on-tahunanui-hills-at-nelson">https://www.stuff.co.nz/nelson-mail/o
 ur-people/96437434/reinstated-days-track-officially-opens-on-tahunanui-hill
 s-at-nelson</a></div> <a href="https://live.nelsontrampingclub.org.nz/compo
 nent/jevents/512/days-track-circuit?Itemid=111&amp;tmpl=component">This eve
 nt was imported from: https://live.nelsontrampingclub.org.nz/component/jeve
 nts/512/days-track-circuit?Itemid=111&amp;tmpl=component</a>DTSTAMP:20260420T022755
DTSTART;VALUE=DATE:20170910
DTEND;VALUE=DATE:20170911
SEQUENCE:0
TRANSP:OPAQUE
END:VEVENT
END:VCALENDAR