BEGIN:VCALENDAR
VERSION:2.0
PRODID:-//jEvents 2.0 for Joomla//EN
CALSCALE:GREGORIAN
METHOD:PUBLISH
BEGIN:VEVENT
UID:9ae6844e535ea2d462b90be75ea601c6
CATEGORIES:Overnight Trip
CREATED:20191227T035312
SUMMARY:Nydia Walkway
URL;VALUE=URI:https://live.nelsontrampingclub.org.nz/component/jevents/505/nydia-walkway?
 Itemid=111&amp;tmpl=component
DESCRIPTION:Following the Nydia Walkway to Nydia Lodge. $15 pp\nKaiuma to Duncan Bay - 
 Track 27km in total.\nWater Taxi return to Kaiuma $30\nBookings have been m
 ade for this trip. It may still be possible to join. Please contact Leah to
  discuss.\n This event was imported from: https://live.nelsontrampingclub.o
 rg.nz/component/jevents/505/nydia-walkway?Itemid=111&amp;tmpl=component
X-ALT-DESC;FMTTYPE=text/html:<p>Following the Nydia Walkway to Nydia Lodge. $15 pp</p><p>Kaiuma to Dunca
 n Bay - Track 27km in total.</p><p>Water Taxi return to Kaiuma $30</p><p>Bo
 okings have been made for this trip. It may still be possible to join. Plea
 se contact Leah to discuss.</p> <a href="https://live.nelsontrampingclub.or
 g.nz/component/jevents/505/nydia-walkway?Itemid=111&amp;tmpl=component">Thi
 s event was imported from: https://live.nelsontrampingclub.org.nz/component
 /jevents/505/nydia-walkway?Itemid=111&amp;tmpl=component</a>DTSTAMP:20260424T195854
DTSTART;VALUE=DATE:20180106
DTEND;VALUE=DATE:20180107
SEQUENCE:0
TRANSP:OPAQUE
END:VEVENT
END:VCALENDAR