BEGIN:VCALENDAR
VERSION:2.0
PRODID:-//jEvents 2.0 for Joomla//EN
CALSCALE:GREGORIAN
METHOD:PUBLISH
BEGIN:VEVENT
UID:1b1d3176c96ad07ebe437049ff42be24
CATEGORIES:Day Trip
CREATED:20191227T035310
SUMMARY:Pepin Island
URL;VALUE=URI:https://live.nelsontrampingclub.org.nz/component/jevents/482/pepin-island?I
 temid=111&amp;tmpl=component
DESCRIPTION:Phone 027 931 5689\nSunday\nRare chance to walk around Pepin Island. This i
 s a Fundraiser for the Hira Fire Brigade so there is a $10pp donation.\n Th
 is event was imported from: https://live.nelsontrampingclub.org.nz/componen
 t/jevents/482/pepin-island?Itemid=111&amp;tmpl=component
X-ALT-DESC;FMTTYPE=text/html:<p>Phone 027 931 5689</p><p><em>Sunday</em></p><p>Rare chance to walk aroun
 d Pepin Island. This is a Fundraiser for the Hira Fire Brigade so there is 
 a $10pp donation.</p> <a href="https://live.nelsontrampingclub.org.nz/compo
 nent/jevents/482/pepin-island?Itemid=111&amp;tmpl=component">This event was
  imported from: https://live.nelsontrampingclub.org.nz/component/jevents/48
 2/pepin-island?Itemid=111&amp;tmpl=component</a>DTSTAMP:20260425T043233
DTSTART;VALUE=DATE:20170604
DTEND;VALUE=DATE:20170605
SEQUENCE:0
TRANSP:OPAQUE
END:VEVENT
END:VCALENDAR