BEGIN:VCALENDAR
VERSION:2.0
PRODID:-//jEvents 2.0 for Joomla//EN
CALSCALE:GREGORIAN
METHOD:PUBLISH
BEGIN:VEVENT
UID:4bf3b65177c3c4cacafab3f42fdb5b49
CATEGORIES:Day Trip
CREATED:20191227T035305
SUMMARY:Wooded peak off-track
URL;VALUE=URI:https://live.nelsontrampingclub.org.nz/component/jevents/430/wooded-peak-of
 f-track?Itemid=111&amp;tmpl=component
DESCRIPTION:Sunday\nFrom the Caves Track, branch off track and follow a steep ridge up 
 Wooded Peak.  Bush bash for one hour.  From top of Wooded Peak, return via 
 Sunshine Ridge.  8 hours.  Challenging!  Fit only.\n This event was importe
 d from: https://live.nelsontrampingclub.org.nz/component/jevents/430/wooded
 -peak-off-track?Itemid=111&amp;tmpl=component
X-ALT-DESC;FMTTYPE=text/html:<p><em>Sunday</em></p><p>From the Caves Track, branch off track and follow 
 a steep ridge up Wooded Peak.&nbsp; Bush bash for one hour.&nbsp; From top 
 of Wooded Peak, return via Sunshine Ridge.&nbsp; 8 hours.&nbsp; Challenging
 !&nbsp; Fit only.</p> <a href="https://live.nelsontrampingclub.org.nz/compo
 nent/jevents/430/wooded-peak-off-track?Itemid=111&amp;tmpl=component">This 
 event was imported from: https://live.nelsontrampingclub.org.nz/component/j
 events/430/wooded-peak-off-track?Itemid=111&amp;tmpl=component</a>DTSTAMP:20260420T023026
DTSTART;VALUE=DATE:20160814
DTEND;VALUE=DATE:20160815
SEQUENCE:0
TRANSP:OPAQUE
END:VEVENT
END:VCALENDAR