BEGIN:VCALENDAR
VERSION:2.0
PRODID:-//jEvents 2.0 for Joomla//EN
CALSCALE:GREGORIAN
METHOD:PUBLISH
BEGIN:VEVENT
UID:aed3df10459af1205c23e4cf61eb0345
CATEGORIES:Day Trip
CREATED:20191227T035304
SUMMARY:Jenkins Hill
URL;VALUE=URI:https://live.nelsontrampingclub.org.nz/component/jevents/409/jenkins-hill?I
 temid=111&amp;tmpl=component
DESCRIPTION:Contact Mary on 548 9083 or email This email address is being protected fro
 m spambots. You need JavaScript enabled to view it.\n Saturday\nMarsden Val
 ley loop. From road end at Marsden Valley, ascend via the old Scout track a
 nd Involution bike track to the ridgeline, then follow 4WD track to the Jen
 kins Hill trig at 775m. Descend back to the head of Marsden Valley via a tr
 ap line. Approx. 4-5 hours.\n This event was imported from: https://live.ne
 lsontrampingclub.org.nz/component/jevents/409/jenkins-hill?Itemid=111&amp;t
 mpl=component
X-ALT-DESC;FMTTYPE=text/html:<p>Contact Mary on 548 9083 or email <joomla-hidden-mail  is-link="1" is-em
 ail="1" first="bWhvbmV5" last="eHRyYS5jby5ueg==" text="bWhvbmV5QHh0cmEuY28u
 bno=" base="" >This email address is being protected from spambots. You nee
 d JavaScript enabled to view it.</joomla-hidden-mail></p><p><em> Saturday</
 em></p><p>Marsden Valley loop. From road end at Marsden Valley, ascend via 
 the old Scout track and Involution bike track to the ridgeline, then follow
  4WD track to the Jenkins Hill trig at 775m. Descend back to the head of Ma
 rsden Valley via a trap line. Approx. 4-5 hours.</p> <a href="https://live.
 nelsontrampingclub.org.nz/component/jevents/409/jenkins-hill?Itemid=111&amp
 ;tmpl=component">This event was imported from: https://live.nelsontrampingc
 lub.org.nz/component/jevents/409/jenkins-hill?Itemid=111&amp;tmpl=component
 </a>DTSTAMP:20260420T022841
DTSTART;VALUE=DATE:20160514
DTEND;VALUE=DATE:20160515
SEQUENCE:0
TRANSP:OPAQUE
END:VEVENT
END:VCALENDAR