BEGIN:VCALENDAR
VERSION:2.0
PRODID:-//jEvents 2.0 for Joomla//EN
CALSCALE:GREGORIAN
METHOD:PUBLISH
BEGIN:VEVENT
UID:2f0404aec8c45fbd35dda52fd87e6f7c
CATEGORIES:Extended Trip
CREATED:20191227T035259
SUMMARY:Sawcut Gorge
URL;VALUE=URI:https://live.nelsontrampingclub.org.nz/component/jevents/346/sawcut-gorge?I
 temid=111&amp;tmpl=component
DESCRIPTION:Contact Kate at This email address is being protected from spambots. You ne
 ed JavaScript enabled to view it. or phone 027 244 4144\nREPLACES KIRWANS H
 UT TRIP due to west coast weather\nQueens Birthday weekend\nSaturday: Follo
 w Ure Road in to the start of the Sawcut Gorge track for a splash along the
  upper reaches of the Waima River and up Isolation Creek to the Gorge and o
 n to Isolation Hut for two nights. \nSunday: Head up to Ben More (1247m) an
 d possibly Zoo Hut.\nMonday :Head out back through the gorge and home.\n Th
 is event was imported from: https://live.nelsontrampingclub.org.nz/componen
 t/jevents/346/sawcut-gorge?Itemid=111&amp;tmpl=component
X-ALT-DESC;FMTTYPE=text/html:<p>Contact Kate at <joomla-hidden-mail  is-link="1" is-email="1" first="azh
 r" last="eHRyYS5jby5ueg==" text="azhrQHh0cmEuY28ubno=" base="" >This email 
 address is being protected from spambots. You need JavaScript enabled to vi
 ew it.</joomla-hidden-mail> or phone 027 244 4144</p><p><strong>REPLACES KI
 RWANS HUT TRIP due to west coast weather</strong></p><p><em>Queens Birthday
  weekend</em></p><p><em>Saturday:</em> Follow Ure Road in to the start of t
 he Sawcut Gorge track for a splash along the upper reaches of the Waima Riv
 er and up Isolation Creek to the Gorge and on to Isolation Hut for two nigh
 ts.&nbsp;</p><p><em>Sunday:</em> Head up to Ben More (1247m) and possibly Z
 oo Hut.</p><p><em>Monday :</em>Head out back through the gorge and home.</p
 > <a href="https://live.nelsontrampingclub.org.nz/component/jevents/346/saw
 cut-gorge?Itemid=111&amp;tmpl=component">This event was imported from: http
 s://live.nelsontrampingclub.org.nz/component/jevents/346/sawcut-gorge?Itemi
 d=111&amp;tmpl=component</a>DTSTAMP:20260424T225342
DTSTART;VALUE=DATE:20150530
DTEND;VALUE=DATE:20150601
SEQUENCE:0
TRANSP:OPAQUE
END:VEVENT
END:VCALENDAR