BEGIN:VCALENDAR
VERSION:2.0
PRODID:-//jEvents 2.0 for Joomla//EN
CALSCALE:GREGORIAN
METHOD:PUBLISH
BEGIN:VEVENT
UID:63148b77151449230e4049eec92b2f8c
CATEGORIES:Day Trip
CREATED:20191227T035257
SUMMARY:Harris Farm
URL;VALUE=URI:https://live.nelsontrampingclub.org.nz/component/jevents/329/harris-farm?It
 emid=111&amp;tmpl=component
DESCRIPTION:Sunday\nFrom the Harris Farm above Marybank follow north along the Hira for
 est boundary to a trig pt B1YN for a distant view of Delaware Bay and some 
 well-known local mountains.\n This event was imported from: https://live.ne
 lsontrampingclub.org.nz/component/jevents/329/harris-farm?Itemid=111&amp;tm
 pl=component
X-ALT-DESC;FMTTYPE=text/html:<p><em>Sunday</em></p><p>From the Harris Farm above Marybank follow north a
 long the Hira forest boundary to a trig pt B1YN for a distant view of Delaw
 are Bay and some well-known local mountains.</p> <a href="https://live.nels
 ontrampingclub.org.nz/component/jevents/329/harris-farm?Itemid=111&amp;tmpl
 =component">This event was imported from: https://live.nelsontrampingclub.o
 rg.nz/component/jevents/329/harris-farm?Itemid=111&amp;tmpl=component</a>DTSTAMP:20260425T041614
DTSTART;VALUE=DATE:20150503
DTEND;VALUE=DATE:20150504
SEQUENCE:0
TRANSP:OPAQUE
END:VEVENT
END:VCALENDAR