BEGIN:VCALENDAR
VERSION:2.0
PRODID:-//jEvents 2.0 for Joomla//EN
CALSCALE:GREGORIAN
METHOD:PUBLISH
BEGIN:VEVENT
UID:3c0de687c93caded618c03dd1a1ffdb0
CATEGORIES:Day Trip
CREATED:20191227T035257
SUMMARY:Boulder Bank
URL;VALUE=URI:https://live.nelsontrampingclub.org.nz/component/jevents/319/boulder-bank?I
 temid=111&amp;tmpl=component
DESCRIPTION:Sunday\nFrom Boulder Bank Drive it's about 9km out to the lighthouse near t
 he end of the Boulder Bank. There's a bit of rock-hopping required so wear 
 some sturdy shoes.\n This event was imported from: https://live.nelsontramp
 ingclub.org.nz/component/jevents/319/boulder-bank?Itemid=111&amp;tmpl=compo
 nent
X-ALT-DESC;FMTTYPE=text/html:<p><em>Sunday</em></p><p>From Boulder Bank Drive it's about 9km out to the 
 lighthouse near the end of the Boulder Bank. There's a bit of rock-hopping 
 required so wear some sturdy shoes.</p> <a href="https://live.nelsontrampin
 gclub.org.nz/component/jevents/319/boulder-bank?Itemid=111&amp;tmpl=compone
 nt">This event was imported from: https://live.nelsontrampingclub.org.nz/co
 mponent/jevents/319/boulder-bank?Itemid=111&amp;tmpl=component</a>DTSTAMP:20260425T041457
DTSTART;VALUE=DATE:20150329
DTEND;VALUE=DATE:20150330
SEQUENCE:0
TRANSP:OPAQUE
END:VEVENT
END:VCALENDAR