BEGIN:VCALENDAR
VERSION:2.0
PRODID:-//jEvents 2.0 for Joomla//EN
CALSCALE:GREGORIAN
METHOD:PUBLISH
BEGIN:VEVENT
UID:abcd906d0c6944cd686b9a148fac4713
CATEGORIES:Day Trip
CREATED:20191227T035254
SUMMARY:Brook Sanctuary
URL;VALUE=URI:https://live.nelsontrampingclub.org.nz/component/jevents/288/brook-sanctuar
 y?Itemid=111&amp;tmpl=component
DESCRIPTION:Email This email address is being protected from spambots. You need JavaScr
 ipt enabled to view it.\nSaturday\nFrom Brook-Waimarama Sanctuary explore t
 he valley via Koru, Flagstone and valley tracks for approx. 4 hours\n This 
 event was imported from: https://live.nelsontrampingclub.org.nz/component/j
 events/288/brook-sanctuary?Itemid=111&amp;tmpl=component
X-ALT-DESC;FMTTYPE=text/html:<p>Email&nbsp;<span style="font-family: Helvetica; font-size: 14px;"><jooml
 a-hidden-mail  is-link="1" is-email="1" first="ZWxpemRvb2xleQ==" last="aG90
 bWFpbC5jb20=" text="ZWxpemRvb2xleUBob3RtYWlsLmNvbQ==" base="" >This email a
 ddress is being protected from spambots. You need JavaScript enabled to vie
 w it.</joomla-hidden-mail></span></p><p><em>Saturday</em></p><p>From Brook-
 Waimarama Sanctuary explore the valley via Koru, Flagstone and valley track
 s for approx. 4 hours</p> <a href="https://live.nelsontrampingclub.org.nz/c
 omponent/jevents/288/brook-sanctuary?Itemid=111&amp;tmpl=component">This ev
 ent was imported from: https://live.nelsontrampingclub.org.nz/component/jev
 ents/288/brook-sanctuary?Itemid=111&amp;tmpl=component</a>DTSTAMP:20260419T172702
DTSTART;VALUE=DATE:20141018
DTEND;VALUE=DATE:20141019
SEQUENCE:0
TRANSP:OPAQUE
END:VEVENT
END:VCALENDAR