BEGIN:VCALENDAR
VERSION:2.0
PRODID:-//jEvents 2.0 for Joomla//EN
CALSCALE:GREGORIAN
METHOD:PUBLISH
BEGIN:VEVENT
UID:7d738a2b1b77ac1f858ed558dcd2b597
CATEGORIES:Day Trip
CREATED:20191227T035246
SUMMARY:Maitai Caves
URL;VALUE=URI:https://live.nelsontrampingclub.org.nz/component/jevents/180/maitai-caves?I
 temid=111&amp;tmpl=component
DESCRIPTION:Sunday\nFrom the Maitai Dam, cross the river on the swingbridge and follow 
 tracks on the true left bank, past the Dun Mountain turnoff, to the caves. 
 Two stream crossings. Return the same way.\n This event was imported from: 
 https://live.nelsontrampingclub.org.nz/component/jevents/180/maitai-caves?I
 temid=111&amp;tmpl=component
X-ALT-DESC;FMTTYPE=text/html:<p><em>Sunday</em></p><p>From the Maitai Dam, cross the river on the swingb
 ridge and follow tracks on the true left bank, past the Dun Mountain turnof
 f, to the caves. Two stream crossings. Return the same way.</p> <a href="ht
 tps://live.nelsontrampingclub.org.nz/component/jevents/180/maitai-caves?Ite
 mid=111&amp;tmpl=component">This event was imported from: https://live.nels
 ontrampingclub.org.nz/component/jevents/180/maitai-caves?Itemid=111&amp;tmp
 l=component</a>DTSTAMP:20260425T013150
DTSTART;VALUE=DATE:20131020
DTEND;VALUE=DATE:20131021
SEQUENCE:0
TRANSP:OPAQUE
END:VEVENT
END:VCALENDAR