BEGIN:VCALENDAR
VERSION:2.0
PRODID:-//jEvents 2.0 for Joomla//EN
CALSCALE:GREGORIAN
METHOD:PUBLISH
BEGIN:VEVENT
UID:596c3f816ee9e3d264f43b43139451ac
CATEGORIES:Day Trip
CREATED:20191227T035245
SUMMARY:Grampians from Brook St
URL;VALUE=URI:https://live.nelsontrampingclub.org.nz/component/jevents/171/grampians-from
 -brook-st?Itemid=111&amp;tmpl=component
DESCRIPTION:Saturday.\nFrom the Brook, up to the viewing platform on the Nelson side an
 d along other tracks before returning to the starting point.\n This event w
 as imported from: https://live.nelsontrampingclub.org.nz/component/jevents/
 171/grampians-from-brook-st?Itemid=111&amp;tmpl=component
X-ALT-DESC;FMTTYPE=text/html:<p>Saturday.</p><p>From the Brook, up to the viewing platform on the Nelson
  side and along other tracks before returning to the starting point.</p> <a
  href="https://live.nelsontrampingclub.org.nz/component/jevents/171/grampia
 ns-from-brook-st?Itemid=111&amp;tmpl=component">This event was imported fro
 m: https://live.nelsontrampingclub.org.nz/component/jevents/171/grampians-f
 rom-brook-st?Itemid=111&amp;tmpl=component</a>DTSTAMP:20260425T013044
DTSTART;VALUE=DATE:20130629
DTEND;VALUE=DATE:20130630
SEQUENCE:0
TRANSP:OPAQUE
END:VEVENT
END:VCALENDAR