BEGIN:VCALENDAR
VERSION:2.0
PRODID:-//jEvents 2.0 for Joomla//EN
CALSCALE:GREGORIAN
METHOD:PUBLISH
BEGIN:VEVENT
UID:acbaf39ab9681c07be9fa2022ecda54b
CATEGORIES:Day Trip
CREATED:20250623T093713
SUMMARY:Kina beach walk
URL;VALUE=URI:https://live.nelsontrampingclub.org.nz/component/jevents/1533/kina-beach-wa
 lk?Itemid=111&amp;tmpl=component
DESCRIPTION:An easy walk along Kina beach to the end of the Peninsula and return along 
 Cliff Road. Around 15 kms and 5 to 6 hours.\n This event was imported from:
  https://live.nelsontrampingclub.org.nz/component/jevents/1533/kina-beach-w
 alk?Itemid=111&amp;tmpl=component
X-ALT-DESC;FMTTYPE=text/html:<p>An easy walk along Kina beach to the end of the Peninsula and return alo
 ng Cliff Road. Around 15 kms and 5 to 6 hours.</p> <a href="https://live.ne
 lsontrampingclub.org.nz/component/jevents/1533/kina-beach-walk?Itemid=111&a
 mp;tmpl=component">This event was imported from: https://live.nelsontrampin
 gclub.org.nz/component/jevents/1533/kina-beach-walk?Itemid=111&amp;tmpl=com
 ponent</a>DTSTAMP:20260420T103755
DTSTART;VALUE=DATE:20250720
DTEND;VALUE=DATE:20250721
SEQUENCE:0
TRANSP:OPAQUE
END:VEVENT
END:VCALENDAR