BEGIN:VCALENDAR
VERSION:2.0
PRODID:-//jEvents 2.0 for Joomla//EN
CALSCALE:GREGORIAN
METHOD:PUBLISH
BEGIN:VEVENT
UID:ad2c9ea73ada7424bf0181cf374c36cd
CATEGORIES:Extended Trip
CREATED:20220928T225236
SUMMARY:Mt Luna Crossing
URL;VALUE=URI:https://live.nelsontrampingclub.org.nz/component/jevents/1158/mt-luna-cross
 ing?Itemid=111&amp;tmpl=component
DESCRIPTION:This is the plan:21) John Reid Hut from Rolling River Jctn up Chummies trac
 k, 5-6 hrs. 940m up. 6 bunks. Unbridged river crossing at the start!22) fol
 low the ridge, sidetrip up Mt Patriach, then on to Kiwi Saddle Hut, up to 8
  hrs. 6 bunks, $523) Cross Luna Tops, possibly up Mt Luna, then down to Sto
 ne Hut for the night, 6ish hrs, depending on route finding. 10 bunks, $524)
  follow the Wangapeka Track out to Rolling jctn, 5-6 hrs, and drive homeI h
 ave not done this tramp. Happy about assistance in sharing navigation.Bring
  sleeping mats and/or tents, as the huts are small and might be full.Below 
 are some reports on similar trips:\nhttps://wtmc.org.nz/trip-report/luna-lo
 op/ (https://wtmc.org.nz/trip-report/luna-loop/)\nhttps://live.nelsontrampi
 ngclub.org.nz/trip-reports/trip-report-filter/431-mt-patriarch,-kahurangi-n
 p,-6-9-sept-2013\nhttps://live.nelsontrampingclub.org.nz/trip-reports/trip-
 report-filter/548-luna-tops,-wangapeka,-august-4-6,-2020 (trip-reports/trip
 -report-filter/548-luna-tops,-wangapeka,-august-4-6,-2020)\n\n\n This event
  was imported from: https://live.nelsontrampingclub.org.nz/component/jevent
 s/1158/mt-luna-crossing?Itemid=111&amp;tmpl=component
X-ALT-DESC;FMTTYPE=text/html:<div>This is the plan:</div><div></div><div dir="ltr">21) John Reid Hut fro
 m Rolling River Jctn up Chummies track, 5-6 hrs. 940m up. 6 bunks. Unbridge
 d river crossing at the start!</div><div dir="ltr">22) follow the ridge, si
 detrip up Mt Patriach, then on to Kiwi Saddle Hut, up to 8 hrs. 6 bunks, $5
 </div><div dir="ltr">23) Cross Luna Tops, possibly up Mt Luna, then down to
  Stone Hut for the night, 6ish hrs, depending on route finding. 10 bunks, $
 5</div><div dir="ltr">24) follow the Wangapeka Track out to Rolling jctn, 5
 -6 hrs, and drive home</div><div dir="ltr"></div><div>I have not done this 
 tramp. Happy about assistance in sharing navigation.</div><div>Bring sleepi
 ng mats and/or tents, as the huts are small and might be full.</div><p>Belo
 w are some reports on similar trips:</p><p><a href="https://wtmc.org.nz/tri
 p-report/luna-loop/" data-jzz-gui-player="true">https://wtmc.org.nz/trip-re
 port/luna-loop/</a></p><p><a href="https://live.nelsontrampingclub.org.nz/t
 rip-reports/trip-report-filter/431-mt-patriarch,-kahurangi-np,-6-9-sept-201
 3" data-jzz-gui-player="true">https://live.nelsontrampingclub.org.nz/trip-r
 eports/trip-report-filter/431-mt-patriarch,-kahurangi-np,-6-9-sept-2013</a>
 </p><p><a href="https://live.nelsontrampingclub.org.nz/trip-reports/trip-re
 port-filter/548-luna-tops,-wangapeka,-august-4-6,-2020" data-jzz-gui-player
 ="true">https://live.nelsontrampingclub.org.nz/trip-reports/trip-report-fil
 ter/548-luna-tops,-wangapeka,-august-4-6,-2020</a></p><p></p><p></p> <a hre
 f="https://live.nelsontrampingclub.org.nz/component/jevents/1158/mt-luna-cr
 ossing?Itemid=111&amp;tmpl=component">This event was imported from: https:/
 /live.nelsontrampingclub.org.nz/component/jevents/1158/mt-luna-crossing?Ite
 mid=111&amp;tmpl=component</a>DTSTAMP:20260420T024515
DTSTART;VALUE=DATE:20221221
DTEND;VALUE=DATE:20221225
SEQUENCE:0
TRANSP:OPAQUE
END:VEVENT
END:VCALENDAR